BEGIN:VCALENDAR
VERSION:2.0
PRODID:-//pretalx//pretalx.c3voc.de//lgm-2026//talk//K9WVEV
BEGIN:VTIMEZONE
TZID:CET
BEGIN:STANDARD
DTSTART:20001029T040000
RRULE:FREQ=YEARLY;BYDAY=-1SU;BYMONTH=10
TZNAME:CET
TZOFFSETFROM:+0200
TZOFFSETTO:+0100
END:STANDARD
BEGIN:DAYLIGHT
DTSTART:20000326T030000
RRULE:FREQ=YEARLY;BYDAY=-1SU;BYMONTH=3
TZNAME:CEST
TZOFFSETFROM:+0100
TZOFFSETTO:+0200
END:DAYLIGHT
END:VTIMEZONE
BEGIN:VEVENT
UID:pretalx-lgm-2026-K9WVEV@pretalx.c3voc.de
DTSTART;TZID=CET:20260422T134500
DTEND;TZID=CET:20260422T141000
DESCRIPTION:Welcome to Nuremberg\, welcome the Libre Graphics Meeting!
DTSTAMP:20260422T193842Z
LOCATION:Zollhof
SUMMARY:Welcome - Lasse Fister\, LGM Community
URL:https://pretalx.c3voc.de/lgm-2026/talk/K9WVEV/
END:VEVENT
END:VCALENDAR
