BEGIN:VCALENDAR
VERSION:2.0
PRODID:-//pretalx//pretalx.c3voc.de//lgm-2026//speaker//ZHXQTK
BEGIN:VTIMEZONE
TZID:CET
BEGIN:STANDARD
DTSTART:20001029T040000
RRULE:FREQ=YEARLY;BYDAY=-1SU;BYMONTH=10
TZNAME:CET
TZOFFSETFROM:+0200
TZOFFSETTO:+0100
END:STANDARD
BEGIN:DAYLIGHT
DTSTART:20000326T030000
RRULE:FREQ=YEARLY;BYDAY=-1SU;BYMONTH=3
TZNAME:CEST
TZOFFSETFROM:+0100
TZOFFSETTO:+0200
END:DAYLIGHT
END:VTIMEZONE
BEGIN:VEVENT
UID:pretalx-lgm-2026-FHMFGU@pretalx.c3voc.de
DTSTART;TZID=CET:20260422T153000
DTEND;TZID=CET:20260422T155500
DESCRIPTION:We recently felt the need to change the UI framework we use in 
 Coollab.
DTSTAMP:20260422T223801Z
LOCATION:Zollhof
SUMMARY:Exploring modern UI frameworks - Jules Fouchy
URL:https://pretalx.c3voc.de/lgm-2026/talk/FHMFGU/
END:VEVENT
BEGIN:VEVENT
UID:pretalx-lgm-2026-PFCP8Z@pretalx.c3voc.de
DTSTART;TZID=CET:20260423T134000
DTEND;TZID=CET:20260423T154000
DESCRIPTION:In this workshop you will learn the basics of Coollab\, a node-
 based software designed to be very easy to use\, yet very powerful. We wil
 l explore the various types of effects (image generators\, shapes\, 3D\, d
 istortions\, post-processing\, etc.)\, and then learn how to make your sce
 ne react to audio! The explanations will be followed by some practice time
 \, where participants will create their own procedural music video based o
 n a short music excerpt.
DTSTAMP:20260422T223801Z
LOCATION:workshop
SUMMARY:Making real-time generative visuals with Coollab - Jules Fouchy
URL:https://pretalx.c3voc.de/lgm-2026/talk/PFCP8Z/
END:VEVENT
END:VCALENDAR
