BEGIN:VCALENDAR
VERSION:2.0
PRODID:-//pretalx//pretalx.c3voc.de//lgm-2026//speaker//YYNYRL
BEGIN:VTIMEZONE
TZID:CET
BEGIN:STANDARD
DTSTART:20001029T040000
RRULE:FREQ=YEARLY;BYDAY=-1SU;BYMONTH=10
TZNAME:CET
TZOFFSETFROM:+0200
TZOFFSETTO:+0100
END:STANDARD
BEGIN:DAYLIGHT
DTSTART:20000326T030000
RRULE:FREQ=YEARLY;BYDAY=-1SU;BYMONTH=3
TZNAME:CEST
TZOFFSETFROM:+0100
TZOFFSETTO:+0200
END:DAYLIGHT
END:VTIMEZONE
BEGIN:VEVENT
UID:pretalx-lgm-2026-BGMJCT@pretalx.c3voc.de
DTSTART;TZID=CET:20260423T174500
DTEND;TZID=CET:20260423T181000
DESCRIPTION:GIMP is Free Software. Most people present at Libre Graphics kn
 ow as much. But it is more: GIMP is also a Community. For me this aspect h
 as about as much importance as the licensing part. In this talk\, I will b
 e diving further into what that means\, how that works and why this matter
 s. Doing so\, I will also discuss a bit the past few years of the project\
 , clarify our current vision and forecast the (very positive) future of th
 is project.
DTSTAMP:20260422T223532Z
LOCATION:Zollhof
SUMMARY:GIMP: a Community\, Free Software - Jehan
URL:https://pretalx.c3voc.de/lgm-2026/talk/BGMJCT/
END:VEVENT
END:VCALENDAR
