BEGIN:VCALENDAR
VERSION:2.0
PRODID:-//pretalx//pretalx.c3voc.de//lgm-2026//speaker//XRJ8YS
BEGIN:VTIMEZONE
TZID:CET
BEGIN:STANDARD
DTSTART:20001029T040000
RRULE:FREQ=YEARLY;BYDAY=-1SU;BYMONTH=10
TZNAME:CET
TZOFFSETFROM:+0200
TZOFFSETTO:+0100
END:STANDARD
BEGIN:DAYLIGHT
DTSTART:20000326T030000
RRULE:FREQ=YEARLY;BYDAY=-1SU;BYMONTH=3
TZNAME:CEST
TZOFFSETFROM:+0100
TZOFFSETTO:+0200
END:DAYLIGHT
END:VTIMEZONE
BEGIN:VEVENT
UID:pretalx-lgm-2026-K9WVEV@pretalx.c3voc.de
DTSTART;TZID=CET:20260422T134500
DTEND;TZID=CET:20260422T141000
DESCRIPTION:Welcome to Nuremberg\, welcome the Libre Graphics Meeting!
DTSTAMP:20260422T211629Z
LOCATION:Zollhof
SUMMARY:Welcome - Lasse Fister\, LGM Community
URL:https://pretalx.c3voc.de/lgm-2026/talk/K9WVEV/
END:VEVENT
BEGIN:VEVENT
UID:pretalx-lgm-2026-MGFHC8@pretalx.c3voc.de
DTSTART;TZID=CET:20260423T101000
DTEND;TZID=CET:20260423T121000
DESCRIPTION:A general session dedicated to the self-organization of the LGM
  community.
DTSTAMP:20260422T211629Z
LOCATION:Zollhof
SUMMARY:RE:WIRE Workshop - Lasse Fister
URL:https://pretalx.c3voc.de/lgm-2026/talk/MGFHC8/
END:VEVENT
BEGIN:VEVENT
UID:pretalx-lgm-2026-YBFPWF@pretalx.c3voc.de
DTSTART;TZID=CET:20260424T132000
DTEND;TZID=CET:20260424T152000
DESCRIPTION:A meeting to consolidate Thursdays event RE:WIRE Workshop.
DTSTAMP:20260422T211629Z
LOCATION:workshop
SUMMARY:RE:WIRE - Lasse Fister\, LGM Community
URL:https://pretalx.c3voc.de/lgm-2026/talk/YBFPWF/
END:VEVENT
BEGIN:VEVENT
UID:pretalx-lgm-2026-NG9DSV@pretalx.c3voc.de
DTSTART;TZID=CET:20260425T103500
DTEND;TZID=CET:20260425T105500
DESCRIPTION:tbd
DTSTAMP:20260422T211629Z
LOCATION:Zollhof
SUMMARY:TypeRoof – The March to v1 - Lasse Fister
URL:https://pretalx.c3voc.de/lgm-2026/talk/NG9DSV/
END:VEVENT
END:VCALENDAR
