BEGIN:VCALENDAR
VERSION:2.0
PRODID:-//pretalx//pretalx.c3voc.de//lgm-2026//speaker//VEGEZF
BEGIN:VTIMEZONE
TZID:CET
BEGIN:STANDARD
DTSTART:20001029T040000
RRULE:FREQ=YEARLY;BYDAY=-1SU;BYMONTH=10
TZNAME:CET
TZOFFSETFROM:+0200
TZOFFSETTO:+0100
END:STANDARD
BEGIN:DAYLIGHT
DTSTART:20000326T030000
RRULE:FREQ=YEARLY;BYDAY=-1SU;BYMONTH=3
TZNAME:CEST
TZOFFSETFROM:+0100
TZOFFSETTO:+0200
END:DAYLIGHT
END:VTIMEZONE
BEGIN:VEVENT
UID:pretalx-lgm-2026-GT933L@pretalx.c3voc.de
DTSTART;TZID=CET:20260424T112500
DTEND;TZID=CET:20260424T115000
DESCRIPTION:For design students\, software is a basic and everyday working 
 tool. When teaching design\, the question of how much software should be t
 aught is as persistent as it is relevant. In this talk\, I present some no
 tes on an assignment given to design university students from several disc
 iplines\, in which they are asked to identify and test free and open-sourc
 e software for a common task in their daily practice\, and to produce a sh
 ort evaluation and public review.
DTSTAMP:20260422T223610Z
LOCATION:Zollhof
SUMMARY:Design Students Experimenting with Free Software - Lila Pagola
URL:https://pretalx.c3voc.de/lgm-2026/talk/GT933L/
END:VEVENT
END:VCALENDAR
