BEGIN:VCALENDAR
VERSION:2.0
PRODID:-//pretalx//pretalx.c3voc.de//lgm-2026//speaker//UTGBLX
BEGIN:VTIMEZONE
TZID:CET
BEGIN:STANDARD
DTSTART:20001029T040000
RRULE:FREQ=YEARLY;BYDAY=-1SU;BYMONTH=10
TZNAME:CET
TZOFFSETFROM:+0200
TZOFFSETTO:+0100
END:STANDARD
BEGIN:DAYLIGHT
DTSTART:20000326T030000
RRULE:FREQ=YEARLY;BYDAY=-1SU;BYMONTH=3
TZNAME:CEST
TZOFFSETFROM:+0100
TZOFFSETTO:+0200
END:DAYLIGHT
END:VTIMEZONE
BEGIN:VEVENT
UID:pretalx-lgm-2026-WMKRMB@pretalx.c3voc.de
DTSTART;TZID=CET:20260425T110000
DTEND;TZID=CET:20260425T112000
DESCRIPTION:Bookbinding involves cutting\, folding\, and stacking pages to 
 create a single stack of papers\, bound in various ways.
DTSTAMP:20260422T223731Z
LOCATION:Zollhof
SUMMARY:mposition methods for bookbinding - Tom Lechner
URL:https://pretalx.c3voc.de/lgm-2026/talk/WMKRMB/
END:VEVENT
END:VCALENDAR
