BEGIN:VCALENDAR
VERSION:2.0
PRODID:-//pretalx//pretalx.c3voc.de//lgm-2026//speaker//TVMCA3
BEGIN:VTIMEZONE
TZID:CET
BEGIN:STANDARD
DTSTART:20001029T040000
RRULE:FREQ=YEARLY;BYDAY=-1SU;BYMONTH=10
TZNAME:CET
TZOFFSETFROM:+0200
TZOFFSETTO:+0100
END:STANDARD
BEGIN:DAYLIGHT
DTSTART:20000326T030000
RRULE:FREQ=YEARLY;BYDAY=-1SU;BYMONTH=3
TZNAME:CEST
TZOFFSETFROM:+0100
TZOFFSETTO:+0200
END:DAYLIGHT
END:VTIMEZONE
BEGIN:VEVENT
UID:pretalx-lgm-2026-VECVVA@pretalx.c3voc.de
DTSTART;TZID=CET:20260422T171500
DTEND;TZID=CET:20260422T173500
DESCRIPTION:For over a decade\, p5.js has helped learners to make algorithm
 ic art on the web. p5.js is community-driven\, prioritizes access and incl
 usion\, and makes coding beginner-friendly by requiring as little prior kn
 owledge as possible to get hands-on\, while supporting continued learning.
DTSTAMP:20260422T223852Z
LOCATION:Zollhof
SUMMARY:Beginner-Friendly Shader Programming in p5.js v2 - Dave Pagurek\, L
 uke Plowden\, Perminder Singh\, Kenneth Lim\, Kit Kuksenok
URL:https://pretalx.c3voc.de/lgm-2026/talk/VECVVA/
END:VEVENT
BEGIN:VEVENT
UID:pretalx-lgm-2026-7ZQUFE@pretalx.c3voc.de
DTSTART;TZID=CET:20260423T134000
DTEND;TZID=CET:20260423T154000
DESCRIPTION:p5.strands is a new graphics tool available in p5.js v2. Motiva
 ted by designing a beginner-friendly shader programming API\, it continues
  to be developed through community feedback. As a follow up to our present
 ation\, this one-hour hackathon invites participants both on-site and onli
 ne to try out using p5.strands to create algorithmic art\, or to find out 
 more about the technical roadmap and issues ready for work. In addition to
  the presenters on site\, the hackathon takes place on Discord\, with remo
 te presence and support by p5.strands developers.
DTSTAMP:20260422T223852Z
LOCATION:workshop
SUMMARY:p5.strands Hybrid Hackathon - Dave Pagurek\, Luke Plowden\, Permind
 er Singh\, Kenneth Lim\, Kit Kuksenok
URL:https://pretalx.c3voc.de/lgm-2026/talk/7ZQUFE/
END:VEVENT
END:VCALENDAR
