BEGIN:VCALENDAR
VERSION:2.0
PRODID:-//pretalx//pretalx.c3voc.de//lgm-2026//speaker//TPQWPK
BEGIN:VTIMEZONE
TZID:CET
BEGIN:STANDARD
DTSTART:20001029T040000
RRULE:FREQ=YEARLY;BYDAY=-1SU;BYMONTH=10
TZNAME:CET
TZOFFSETFROM:+0200
TZOFFSETTO:+0100
END:STANDARD
BEGIN:DAYLIGHT
DTSTART:20000326T030000
RRULE:FREQ=YEARLY;BYDAY=-1SU;BYMONTH=3
TZNAME:CEST
TZOFFSETFROM:+0100
TZOFFSETTO:+0200
END:DAYLIGHT
END:VTIMEZONE
BEGIN:VEVENT
UID:pretalx-lgm-2026-3DT9YL@pretalx.c3voc.de
DTSTART;TZID=CET:20260425T101000
DTEND;TZID=CET:20260425T103000
DESCRIPTION:Live coding is an artistic practice that creates sound or video
  by editing source code in real time\, often from scratch. Originating in 
 TOPLAP\, it has over two decades evolved a distinctive aesthetic and nurtu
 red a diverse and inclusive community. Live coding has a strong open-sourc
 e ethic and has produced a wealth of frameworks and tools for creative exp
 ression.
DTSTAMP:20260422T223611Z
LOCATION:Zollhof
SUMMARY:Headless Hydra: Live coding on improbable devices - Gábor L Ugray
URL:https://pretalx.c3voc.de/lgm-2026/talk/3DT9YL/
END:VEVENT
END:VCALENDAR
