BEGIN:VCALENDAR
VERSION:2.0
PRODID:-//pretalx//pretalx.c3voc.de//lgm-2026//speaker//NPW7UT
BEGIN:VTIMEZONE
TZID:CET
BEGIN:STANDARD
DTSTART:20001029T040000
RRULE:FREQ=YEARLY;BYDAY=-1SU;BYMONTH=10
TZNAME:CET
TZOFFSETFROM:+0200
TZOFFSETTO:+0100
END:STANDARD
BEGIN:DAYLIGHT
DTSTART:20000326T030000
RRULE:FREQ=YEARLY;BYDAY=-1SU;BYMONTH=3
TZNAME:CEST
TZOFFSETFROM:+0100
TZOFFSETTO:+0200
END:DAYLIGHT
END:VTIMEZONE
BEGIN:VEVENT
UID:pretalx-lgm-2026-CSR9QJ@pretalx.c3voc.de
DTSTART;TZID=CET:20260424T101000
DTEND;TZID=CET:20260424T103000
DESCRIPTION:This {presentation/workshop} will introduce ossia score to the 
 audience. It is a free and open-source desktop software\, running on Linux
  (including Raspberry Pi)\, FreeBSD\, macOS and Windows\, and has been use
 d in artworks showcased in high-profile venues such as Ars Electronica\, N
 emo Biennale\, Venice Architecture Biennale and others. Originally centere
 d on pure show control and music\, recent versions have focused more and m
 ore on providing a state-of-the-art real-time pipeline for live visual art
 s.
DTSTAMP:20260422T223533Z
LOCATION:Zollhof
SUMMARY:FLOSS real-time visuals for media arts with ossia score - Jean-Mich
 aël Celerier
URL:https://pretalx.c3voc.de/lgm-2026/talk/CSR9QJ/
END:VEVENT
END:VCALENDAR
