BEGIN:VCALENDAR
VERSION:2.0
PRODID:-//pretalx//pretalx.c3voc.de//lgm-2026//speaker//NMVHLV
BEGIN:VTIMEZONE
TZID:CET
BEGIN:STANDARD
DTSTART:20001029T040000
RRULE:FREQ=YEARLY;BYDAY=-1SU;BYMONTH=10
TZNAME:CET
TZOFFSETFROM:+0200
TZOFFSETTO:+0100
END:STANDARD
BEGIN:DAYLIGHT
DTSTART:20000326T030000
RRULE:FREQ=YEARLY;BYDAY=-1SU;BYMONTH=3
TZNAME:CEST
TZOFFSETFROM:+0100
TZOFFSETTO:+0200
END:DAYLIGHT
END:VTIMEZONE
BEGIN:VEVENT
UID:pretalx-lgm-2026-BMZ9YW@pretalx.c3voc.de
DTSTART;TZID=CET:20260425T155500
DTEND;TZID=CET:20260425T162000
DESCRIPTION:We’ve released PixiEditor 2.0 about half a year ago\, it’s 
 a node driven 2D editor capable of raster editing\, animations and native 
 vector editing.
DTSTAMP:20260422T223633Z
LOCATION:Zollhof
SUMMARY:The Power of Node Driven 2D Workflows - Krzysztof Krysiński
URL:https://pretalx.c3voc.de/lgm-2026/talk/BMZ9YW/
END:VEVENT
END:VCALENDAR
