BEGIN:VCALENDAR
VERSION:2.0
PRODID:-//pretalx//pretalx.c3voc.de//lgm-2026//speaker//MPN8VA
BEGIN:VTIMEZONE
TZID:CET
BEGIN:STANDARD
DTSTART:20001029T040000
RRULE:FREQ=YEARLY;BYDAY=-1SU;BYMONTH=10
TZNAME:CET
TZOFFSETFROM:+0200
TZOFFSETTO:+0100
END:STANDARD
BEGIN:DAYLIGHT
DTSTART:20000326T030000
RRULE:FREQ=YEARLY;BYDAY=-1SU;BYMONTH=3
TZNAME:CEST
TZOFFSETFROM:+0100
TZOFFSETTO:+0200
END:DAYLIGHT
END:VTIMEZONE
BEGIN:VEVENT
UID:pretalx-lgm-2026-GVYNF9@pretalx.c3voc.de
DTSTART;TZID=CET:20260424T110000
DTEND;TZID=CET:20260424T112000
DESCRIPTION:Processing is one of the most influential approaches to creativ
 e coding and computer science education. Since its first release in 2001\,
  it has popularized methodologies centered on visual feedback\, iterative 
 experimentation\, and immediate creative expression—making programming a
 ccessible to students\, artists\, and designers who might not see themselv
 es as “coders.”
DTSTAMP:20260422T223532Z
LOCATION:Zollhof
SUMMARY:Expanding Processing’s Future With a Rust Rendering Engine - Moon
  Davé
URL:https://pretalx.c3voc.de/lgm-2026/talk/GVYNF9/
END:VEVENT
END:VCALENDAR
