BEGIN:VCALENDAR
VERSION:2.0
PRODID:-//pretalx//pretalx.c3voc.de//lgm-2026//speaker//LMRNBT
BEGIN:VTIMEZONE
TZID:CET
BEGIN:STANDARD
DTSTART:20001029T040000
RRULE:FREQ=YEARLY;BYDAY=-1SU;BYMONTH=10
TZNAME:CET
TZOFFSETFROM:+0200
TZOFFSETTO:+0100
END:STANDARD
BEGIN:DAYLIGHT
DTSTART:20000326T030000
RRULE:FREQ=YEARLY;BYDAY=-1SU;BYMONTH=3
TZNAME:CEST
TZOFFSETFROM:+0100
TZOFFSETTO:+0200
END:DAYLIGHT
END:VTIMEZONE
BEGIN:VEVENT
UID:pretalx-lgm-2026-Y8R77T@pretalx.c3voc.de
DTSTART;TZID=CET:20260425T153000
DTEND;TZID=CET:20260425T155000
DESCRIPTION:The last year has been another busy time for UpStage: we have s
 ecured a new hosting sponsorship with Prodigi.nz\, and our development tea
 m is investigating AI tools.
DTSTAMP:20260422T223706Z
LOCATION:Zollhof
SUMMARY:UpStage - Helen Varley Jamieson
URL:https://pretalx.c3voc.de/lgm-2026/talk/Y8R77T/
END:VEVENT
END:VCALENDAR
