BEGIN:VCALENDAR
VERSION:2.0
PRODID:-//pretalx//pretalx.c3voc.de//lgm-2026//speaker//E9ZGTM
BEGIN:VTIMEZONE
TZID:CET
BEGIN:STANDARD
DTSTART:20001029T040000
RRULE:FREQ=YEARLY;BYDAY=-1SU;BYMONTH=10
TZNAME:CET
TZOFFSETFROM:+0200
TZOFFSETTO:+0100
END:STANDARD
BEGIN:DAYLIGHT
DTSTART:20000326T030000
RRULE:FREQ=YEARLY;BYDAY=-1SU;BYMONTH=3
TZNAME:CEST
TZOFFSETFROM:+0100
TZOFFSETTO:+0200
END:DAYLIGHT
END:VTIMEZONE
BEGIN:VEVENT
UID:pretalx-lgm-2026-XLDYWQ@pretalx.c3voc.de
DTSTART;TZID=CET:20260422T165000
DTEND;TZID=CET:20260422T171000
DESCRIPTION:What becomes possible with a graphics stack/compositor that wor
 ks with vectors\, rather than pixels? - and what does it take to make it p
 ossible? Helping figuring out this - is a goal of the ctx terminal emulato
 r with its vector graphics extension.
DTSTAMP:20260422T223707Z
LOCATION:Zollhof
SUMMARY:ctx vector desktop - rasterizing as late as possible - Øyvind Kol
 ås
URL:https://pretalx.c3voc.de/lgm-2026/talk/XLDYWQ/
END:VEVENT
END:VCALENDAR
