BEGIN:VCALENDAR
VERSION:2.0
PRODID:-//pretalx//pretalx.c3voc.de//lgm-2026//speaker//B38BR7
BEGIN:VTIMEZONE
TZID:CET
BEGIN:STANDARD
DTSTART:20001029T040000
RRULE:FREQ=YEARLY;BYDAY=-1SU;BYMONTH=10
TZNAME:CET
TZOFFSETFROM:+0200
TZOFFSETTO:+0100
END:STANDARD
BEGIN:DAYLIGHT
DTSTART:20000326T030000
RRULE:FREQ=YEARLY;BYDAY=-1SU;BYMONTH=3
TZNAME:CEST
TZOFFSETFROM:+0100
TZOFFSETTO:+0200
END:DAYLIGHT
END:VTIMEZONE
BEGIN:VEVENT
UID:pretalx-lgm-2026-WKJAMR@pretalx.c3voc.de
DTSTART;TZID=CET:20260422T174000
DTEND;TZID=CET:20260422T180500
DESCRIPTION:Phosphor is a humble text-based tool/workflow for creating font
 s. It offers an alternative approach to type design compared to traditiona
 l GUI and WYSIWYG vector font editors. In Phosphor\, glyphs are represente
 d in text\, similar to ASCII art\, and are accompanied by metadata stored 
 in a YAML frontmatter. These textual glyph representations are converted i
 nto SVG using custom Python scripts and then assembled into a vector font 
 via the FontForge scripting interpreter. From a single textual glyph repre
 sentation\, multiple vector glyph variants can be generated.
DTSTAMP:20260422T223706Z
LOCATION:Zollhof
SUMMARY:Phosphor for Tectonic Typefaces - Émile Greis
URL:https://pretalx.c3voc.de/lgm-2026/talk/WKJAMR/
END:VEVENT
BEGIN:VEVENT
UID:pretalx-lgm-2026-T39EZ8@pretalx.c3voc.de
DTSTART;TZID=CET:20260423T134000
DTEND;TZID=CET:20260423T154000
DESCRIPTION:A small workshop about Phosphor.
DTSTAMP:20260422T223706Z
LOCATION:workshop
SUMMARY:Phosphor for Tectonic Typefaces - Émile Greis
URL:https://pretalx.c3voc.de/lgm-2026/talk/T39EZ8/
END:VEVENT
END:VCALENDAR
