BEGIN:VCALENDAR
VERSION:2.0
PRODID:-//pretalx//pretalx.c3voc.de//lgm-2026//speaker//AXXAC7
BEGIN:VTIMEZONE
TZID:CET
BEGIN:STANDARD
DTSTART:20001029T040000
RRULE:FREQ=YEARLY;BYDAY=-1SU;BYMONTH=10
TZNAME:CET
TZOFFSETFROM:+0200
TZOFFSETTO:+0100
END:STANDARD
BEGIN:DAYLIGHT
DTSTART:20000326T030000
RRULE:FREQ=YEARLY;BYDAY=-1SU;BYMONTH=3
TZNAME:CEST
TZOFFSETFROM:+0100
TZOFFSETTO:+0200
END:DAYLIGHT
END:VTIMEZONE
BEGIN:VEVENT
UID:pretalx-lgm-2026-RFL8WK@pretalx.c3voc.de
DTSTART;TZID=CET:20260423T134000
DTEND;TZID=CET:20260423T154000
DESCRIPTION:I’d like to propose a soldering workshop for LGM attendees. G
 oal is to populate a PCB with a handfull of components to have something t
 hat lights up with colors.
DTSTAMP:20260422T223636Z
LOCATION:offsite
SUMMARY:Soldering - Simon Budig
URL:https://pretalx.c3voc.de/lgm-2026/talk/RFL8WK/
END:VEVENT
END:VCALENDAR
