BEGIN:VCALENDAR
VERSION:2.0
PRODID:-//pretalx//pretalx.c3voc.de//lgm-2026//speaker//AA9JW9
BEGIN:VTIMEZONE
TZID:CET
BEGIN:STANDARD
DTSTART:20001029T040000
RRULE:FREQ=YEARLY;BYDAY=-1SU;BYMONTH=10
TZNAME:CET
TZOFFSETFROM:+0200
TZOFFSETTO:+0100
END:STANDARD
BEGIN:DAYLIGHT
DTSTART:20000326T030000
RRULE:FREQ=YEARLY;BYDAY=-1SU;BYMONTH=3
TZNAME:CEST
TZOFFSETFROM:+0100
TZOFFSETTO:+0200
END:DAYLIGHT
END:VTIMEZONE
BEGIN:VEVENT
UID:pretalx-lgm-2026-SNDEP3@pretalx.c3voc.de
DTSTART;TZID=CET:20260424T172500
DTEND;TZID=CET:20260424T174500
DESCRIPTION:Presenting and discussing TiXL’s new interactive learning tou
 r. We broke down the entire knowledge you need to know into linked non-lin
 ear learning paths that guide users through a serious of interactive puzzl
 es. Starting with very basics of the using user interface\, to buildings n
 ode graphs but learning and mastering advanced topics like render pipeline
 s and shaders.
DTSTAMP:20260422T223802Z
LOCATION:Zollhof
SUMMARY:Tixl Skill Quest - Thomas Mann
URL:https://pretalx.c3voc.de/lgm-2026/talk/SNDEP3/
END:VEVENT
END:VCALENDAR
