BEGIN:VCALENDAR
VERSION:2.0
PRODID:-//pretalx//pretalx.c3voc.de//lgm-2026//speaker//9WR3W3
BEGIN:VTIMEZONE
TZID:CET
BEGIN:STANDARD
DTSTART:20001029T040000
RRULE:FREQ=YEARLY;BYDAY=-1SU;BYMONTH=10
TZNAME:CET
TZOFFSETFROM:+0200
TZOFFSETTO:+0100
END:STANDARD
BEGIN:DAYLIGHT
DTSTART:20000326T030000
RRULE:FREQ=YEARLY;BYDAY=-1SU;BYMONTH=3
TZNAME:CEST
TZOFFSETFROM:+0100
TZOFFSETTO:+0200
END:DAYLIGHT
END:VTIMEZONE
BEGIN:VEVENT
UID:pretalx-lgm-2026-VVJA37@pretalx.c3voc.de
DTSTART;TZID=CET:20260424T132000
DTEND;TZID=CET:20260424T152000
DESCRIPTION:The blog-aggregation tool Planet was a groundbreaking way to co
 nnect online communities when it debuted … in the era of personal blog s
 ites with RSS feeds\, and of readers who could be expected to run a feed-r
 eading app. But neither the blogs nor the community fits into those molds 
 today.
DTSTAMP:20260422T223709Z
LOCATION:workshop
SUMMARY:Pluto's Revenge: rethinking Planet software for a community today -
  Nathan Willis
URL:https://pretalx.c3voc.de/lgm-2026/talk/VVJA37/
END:VEVENT
END:VCALENDAR
