BEGIN:VCALENDAR
VERSION:2.0
PRODID:-//pretalx//pretalx.c3voc.de//lgm-2026//speaker//8JJKAK
BEGIN:VTIMEZONE
TZID:CET
BEGIN:STANDARD
DTSTART:20001029T040000
RRULE:FREQ=YEARLY;BYDAY=-1SU;BYMONTH=10
TZNAME:CET
TZOFFSETFROM:+0200
TZOFFSETTO:+0100
END:STANDARD
BEGIN:DAYLIGHT
DTSTART:20000326T030000
RRULE:FREQ=YEARLY;BYDAY=-1SU;BYMONTH=3
TZNAME:CEST
TZOFFSETFROM:+0100
TZOFFSETTO:+0200
END:DAYLIGHT
END:VTIMEZONE
BEGIN:VEVENT
UID:pretalx-lgm-2026-TEGTWF@pretalx.c3voc.de
DTSTART;TZID=CET:20260425T112500
DTEND;TZID=CET:20260425T115000
DESCRIPTION:We are motionensemble\, a small independent Animation Studio wh
 ich mainly makes short explainers and shortfilms for small NGOs.
DTSTAMP:20260422T223731Z
LOCATION:Zollhof
SUMMARY:Learnings from Our first 3D Game in Godot - Alexander Lehmann
URL:https://pretalx.c3voc.de/lgm-2026/talk/TEGTWF/
END:VEVENT
END:VCALENDAR
