BEGIN:VCALENDAR
VERSION:2.0
PRODID:-//pretalx//pretalx.c3voc.de//lgm-2026//speaker//8FU3XP
BEGIN:VTIMEZONE
TZID:CET
BEGIN:STANDARD
DTSTART:20001029T040000
RRULE:FREQ=YEARLY;BYDAY=-1SU;BYMONTH=10
TZNAME:CET
TZOFFSETFROM:+0200
TZOFFSETTO:+0100
END:STANDARD
BEGIN:DAYLIGHT
DTSTART:20000326T030000
RRULE:FREQ=YEARLY;BYDAY=-1SU;BYMONTH=3
TZNAME:CEST
TZOFFSETFROM:+0100
TZOFFSETTO:+0200
END:DAYLIGHT
END:VTIMEZONE
BEGIN:VEVENT
UID:pretalx-lgm-2026-3338PZ@pretalx.c3voc.de
DTSTART;TZID=CET:20260422T141500
DTEND;TZID=CET:20260422T150000
DESCRIPTION:An update from the many projects of our community.
DTSTAMP:20260422T223534Z
LOCATION:Zollhof
SUMMARY:State of Libre Graphics - MABarbe
URL:https://pretalx.c3voc.de/lgm-2026/talk/3338PZ/
END:VEVENT
BEGIN:VEVENT
UID:pretalx-lgm-2026-W8BELX@pretalx.c3voc.de
DTSTART;TZID=CET:20260424T175000
DTEND;TZID=CET:20260424T181500
DESCRIPTION:This talk presents a UX/UI design study for how a node-based vi
 deo editor might look like.
DTSTAMP:20260422T223534Z
LOCATION:Zollhof
SUMMARY:ReWiring the Video Editor – Timeline as a Node - MABarbe
URL:https://pretalx.c3voc.de/lgm-2026/talk/W8BELX/
END:VEVENT
END:VCALENDAR
