BEGIN:VCALENDAR
VERSION:2.0
PRODID:-//pretalx//pretalx.c3voc.de//lgm-2026//speaker//7RQGXS
BEGIN:VTIMEZONE
TZID:CET
BEGIN:STANDARD
DTSTART:20001029T040000
RRULE:FREQ=YEARLY;BYDAY=-1SU;BYMONTH=10
TZNAME:CET
TZOFFSETFROM:+0200
TZOFFSETTO:+0100
END:STANDARD
BEGIN:DAYLIGHT
DTSTART:20000326T030000
RRULE:FREQ=YEARLY;BYDAY=-1SU;BYMONTH=3
TZNAME:CEST
TZOFFSETFROM:+0100
TZOFFSETTO:+0200
END:DAYLIGHT
END:VTIMEZONE
BEGIN:VEVENT
UID:pretalx-lgm-2026-LABVSB@pretalx.c3voc.de
DTSTART;TZID=CET:20260424T170000
DTEND;TZID=CET:20260424T172000
DESCRIPTION:The Liblast 3D asset pipeline is a workflow and template for de
 veloping and (re-)using 3D game assets. The pipeline stems from identifyin
 g worrying trends in 3D game asset life cycles.\n\nChase of highest fideli
 ty has been driving game production cost\, team size and completion time u
 p\, while driving all the other qualities down. This has been excelently p
 ut by Isaque Sanches in his 2022 presentation “The Case Against Visual F
 idelity.”
DTSTAMP:20260422T223802Z
LOCATION:Zollhof
SUMMARY:Liblast 3D asset pipeline - Tobiasz ‘unfa’ Karoń
URL:https://pretalx.c3voc.de/lgm-2026/talk/LABVSB/
END:VEVENT
END:VCALENDAR
