BEGIN:VCALENDAR
VERSION:2.0
PRODID:-//pretalx//pretalx.c3voc.de//lgm-2026//speaker//7BS99Q
BEGIN:VTIMEZONE
TZID:CET
BEGIN:STANDARD
DTSTART:20001029T040000
RRULE:FREQ=YEARLY;BYDAY=-1SU;BYMONTH=10
TZNAME:CET
TZOFFSETFROM:+0200
TZOFFSETTO:+0100
END:STANDARD
BEGIN:DAYLIGHT
DTSTART:20000326T030000
RRULE:FREQ=YEARLY;BYDAY=-1SU;BYMONTH=3
TZNAME:CEST
TZOFFSETFROM:+0100
TZOFFSETTO:+0200
END:DAYLIGHT
END:VTIMEZONE
BEGIN:VEVENT
UID:pretalx-lgm-2026-GXFEUT@pretalx.c3voc.de
DTSTART;TZID=CET:20260424T103500
DTEND;TZID=CET:20260424T105500
DESCRIPTION:A web-based font editor that reduces development time and QA ov
 erhead for complex-script projects. Combining a composition-first (ccmp) w
 orkflow with real-time HarfBuzz shaping and automatic OpenType feature gen
 eration\, the editor lets designers edit base glyphs and combining marks o
 nce and see derived shapes update immediately. That single-source approach
  cuts the exponential QA burden of pre-composed derivatives and prevents m
 any production errors while still allowing export of pre-composed fonts fo
 r compatibility.
DTSTAMP:20260422T223611Z
LOCATION:Zollhof
SUMMARY:Counterpunch Font Editor: Faster\, Safer Complex-Script Design - Ya
 none
URL:https://pretalx.c3voc.de/lgm-2026/talk/GXFEUT/
END:VEVENT
END:VCALENDAR
