BEGIN:VCALENDAR
VERSION:2.0
PRODID:-//pretalx//pretalx.c3voc.de//lgm-2026//speaker//3M8WHU
BEGIN:VTIMEZONE
TZID:CET
BEGIN:STANDARD
DTSTART:20001029T040000
RRULE:FREQ=YEARLY;BYDAY=-1SU;BYMONTH=10
TZNAME:CET
TZOFFSETFROM:+0200
TZOFFSETTO:+0100
END:STANDARD
BEGIN:DAYLIGHT
DTSTART:20000326T030000
RRULE:FREQ=YEARLY;BYDAY=-1SU;BYMONTH=3
TZNAME:CEST
TZOFFSETFROM:+0100
TZOFFSETTO:+0200
END:DAYLIGHT
END:VTIMEZONE
BEGIN:VEVENT
UID:pretalx-lgm-2026-9RVALE@pretalx.c3voc.de
DTSTART;TZID=CET:20260422T150500
DTEND;TZID=CET:20260422T152500
DESCRIPTION:Freeze+Press is a publishing platform and mailorder distributio
 n.
DTSTAMP:20260422T223731Z
LOCATION:Zollhof
SUMMARY:Freeze+Press - Christoph Haag
URL:https://pretalx.c3voc.de/lgm-2026/talk/9RVALE/
END:VEVENT
END:VCALENDAR
