BEGIN:VCALENDAR
VERSION:2.0
PRODID:-//pretalx//pretalx.c3voc.de//lgm-2026//speaker//3ENKNS
BEGIN:VTIMEZONE
TZID:CET
BEGIN:STANDARD
DTSTART:20001029T040000
RRULE:FREQ=YEARLY;BYDAY=-1SU;BYMONTH=10
TZNAME:CET
TZOFFSETFROM:+0200
TZOFFSETTO:+0100
END:STANDARD
BEGIN:DAYLIGHT
DTSTART:20000326T030000
RRULE:FREQ=YEARLY;BYDAY=-1SU;BYMONTH=3
TZNAME:CEST
TZOFFSETFROM:+0100
TZOFFSETTO:+0200
END:DAYLIGHT
END:VTIMEZONE
BEGIN:VEVENT
UID:pretalx-lgm-2026-NFLWJZ@pretalx.c3voc.de
DTSTART;TZID=CET:20260423T172000
DTEND;TZID=CET:20260423T174000
DESCRIPTION:Our favorite Free/Libre and Open Source tools for graphics prov
 ide numerous features that facilitate our creative work.
DTSTAMP:20260422T223801Z
LOCATION:Zollhof
SUMMARY:Live Coding for Artists and Designers - Abe Pazos Solatie
URL:https://pretalx.c3voc.de/lgm-2026/talk/NFLWJZ/
END:VEVENT
BEGIN:VEVENT
UID:pretalx-lgm-2026-G9C9HD@pretalx.c3voc.de
DTSTART;TZID=CET:20260424T132000
DTEND;TZID=CET:20260424T152000
DESCRIPTION:This workshop is a continuation of the presentation with the sa
 me title.
DTSTAMP:20260422T223801Z
LOCATION:workshop
SUMMARY:Live Coding for Artists and Designers - Abe Pazos Solatie
URL:https://pretalx.c3voc.de/lgm-2026/talk/G9C9HD/
END:VEVENT
END:VCALENDAR
